BEGIN:VCALENDAR
VERSION:2.0
PRODID:-//WorkAbility Qld - ECPv4.2.2//NONSGML v1.0//EN
CALSCALE:GREGORIAN
METHOD:PUBLISH
X-WR-CALNAME:WorkAbility Qld
X-ORIGINAL-URL:http://workabilityqld.org.au
X-WR-CALDESC:Events for WorkAbility Qld
BEGIN:VEVENT
DTSTART;TZID=Australia/Brisbane:20180314T073000
DTEND;TZID=Australia/Brisbane:20180314T103000
DTSTAMP:20180225T221318
CREATED:20180219T010222
LAST-MODIFIED:20180219T010816
UID:1795-1521012600-1521023400@workabilityqld.org.au
SUMMARY:Logan and Redlands Employment Marketta
DESCRIPTION:Date: Wednesday 14 March 2018\n Time: 7.30am - 10.30am (Breakfast and Networking)\n Location: Fitzy's Loganholme\, Bryants Road and Pacific Highway\, Loganholme\nEntry: FREE\nWorkAbility Qld and the local workforce action group are taking Expressions of Interest to the Logan and Redlands Employment Marketta: A vibrant and interactive “market place” connecting providers to the many Commonwealth\, State and Local programs that can support an organisation build its NDIS workforce.\n\nThe Employment Marketta will offer attendees:\n• Insights into Australian contemporary labour market and how it might impact your workforce under the NDIS.\n• A one-stop-shop where disability service providers can hear about a wide range of programs aimed at getting people into work.\n• An opportunity to network with fellow providers in the Logan – Redland region.\n• An opportunity to talk to those delivering employment and pathway programs within the Logan – Redlands region.\n\nThis Event is funded by the Australian Government Department of Jobs and Small Business.\n\n[su_button url="http://workabilityqld.org.au/wp-content/uploads/2018/02/Logan-and-Redlands-Employment-Marketta-V2.pdf" target="blank" style="flat" background="#0070b9" size="6"]LOGAN AND REDLANDS EMPLOYMENT MARKETTA FLYER[/su_button]\n\n \nExhibitor Opportunities\nTo register your organisation's interest visit: eventbrite.com.au/e/logan-and-redlands-employment-marketta-tickets.\n\n \n\n \n\n 
URL:http://workabilityqld.org.au/event/logan-and-redlands-employment-marketta/
LOCATION:Bryants Road and Pacific Highway\, Loganholme\, QLD\, 4129\, Australia
CATEGORIES:Brisbane South
ATTACH;FMTTYPE=image/png:http://workabilityqld.org.au/wp-content/uploads/2018/02/Logan-Marketta-Image.png
END:VEVENT
BEGIN:VEVENT
DTSTART;TZID=Australia/Brisbane:20180323T083000
DTEND;TZID=Australia/Brisbane:20180323T123000
DTSTAMP:20180225T221319
CREATED:20180220T232435
LAST-MODIFIED:20180220T232435
UID:1802-1521793800-1521808200@workabilityqld.org.au
SUMMARY:Cairns Disability Expo 2018
DESCRIPTION:Date: Friday 23 March 2018\n Time: 8.30am - 12.30pm\n Location: Cairns Colonial Club\nEntry: FREE\nThe Cairns Disability Expo is back on Friday 23 March\, 8:30am to 12:30pm to ensure the Cairns region is ready for the NDIS.\n\nThis event is to showcase supports\, services and providers available in the Cairns region for people with disability – and to help the community get ready for the NDIS.  The event is occurring earlier than usual to give families time to explore their options and plan for the NDIS.\n\nIf you are wanting to get in front of people with disability in the Cairns region – this event is for you.  Registration to exhibit is free – there are also some sponsorship options available.\n\nWhat to bring: Table supplied – bring everything else you need!\n\nFormat: Open Expo for 4 hours – no scheduled items.\n\n[su_button url="http://workabilityqld.org.au/wp-content/uploads/2018/01/Cairns_Disability_Expo_Flyer_Web-1.pdf" target="blank" style="flat" background="#0070b9" size="6"]CAIRNS DISABILITY EXPO 2018 FLYER[/su_button]\n\n \nExhibitor Opportunities\nTo register your organisation's interest visit: cairnsdisability.net.au/2018-cairns-disability-expo-registration/.\n\n \n\n \n\n 
URL:http://workabilityqld.org.au/event/cairns-disability-expo-2018/
LOCATION:18-26 Cannon Street\, Manunda\, QLD\, 4870\, Australia
CATEGORIES:Far North Queensland
ATTACH;FMTTYPE=image/jpeg:http://workabilityqld.org.au/wp-content/uploads/2018/02/iStock-183841649.jpg
END:VEVENT
BEGIN:VEVENT
DTSTART;TZID=Australia/Brisbane:20180328T130000
DTEND;TZID=Australia/Brisbane:20180328T180000
DTSTAMP:20180225T221319
CREATED:20180208T060557
LAST-MODIFIED:20180222T044529
UID:1790-1522242000-1522260000@workabilityqld.org.au
SUMMARY:Careers in Disability Expo - Rockhampton
DESCRIPTION:Date: Wednesday 28 March 2018\n Time: 1.00pm - 6.00pm\n Location: Robert Schwarten Pavilion\, 1 Exhibition Road\, Wandal\nEntry: FREE\nWorkAbility Qld in partnership with Central Queensland University and Rockhampton Regional Council are hosting the Careers in Disability Expo in Rockhampton on Wednesday 28 March 2018.\n\nExpressions of interest to participate as an exhibitor are currently being accepted. Please refer to the registration link below.\n\nThe Careers in Disability Expo provides your organisation with an opportunity to:\n• Connect with potential workers to fill current and future vacancies. \n• Create awareness and interest in working in the disability sector.\n• Raise awareness about your organisation.\n\nThe purpose of the Careers in Disability Expo is to:\n• Showcase the wide range of current and future job possibilities across the disability sector.\n• Provide an opportunity for job seekers and career changers to meet prospective \nemployers.\n• Provide information and practical advice about pathways\, training and pre-employment and support programs.\n\n[su_button url="http://workabilityqld.org.au/wp-content/uploads/2018/02/CID-Rockhampton-Expo-Exhibitor-Registration-Flyer.pdf" target="blank" style="flat" background="#0070b9" size="6"]ROCKHAMPTON CAREERS IN DISABILITY EXPO FLYER[/su_button]\n\n \nExhibitor Opportunities\nTo register your organisation's interest visit: eventbrite.com.au/e/rockhampton-careers-in-disability-expo-central-queensland-tickets.\n\n \n\n \n\n 
URL:http://workabilityqld.org.au/event/careers-in-disability-expo-rockhampton/
LOCATION:1 Exhibition Road\, Wandal\, QLD\, 4700\, Australia
CATEGORIES:Central Queensland
ATTACH;FMTTYPE=image/jpeg:http://workabilityqld.org.au/wp-content/uploads/2017/09/Ipswich-Expo-Email-Header.jpg
END:VEVENT
END:VCALENDAR