BEGIN:VCALENDAR
VERSION:2.0
PRODID:-//WorkAbility Queensland - ECPv4.6.22//NONSGML v1.0//EN
CALSCALE:GREGORIAN
METHOD:PUBLISH
X-WR-CALNAME:WorkAbility Queensland
X-ORIGINAL-URL:http://workabilityqld.org.au
X-WR-CALDESC:Events for WorkAbility Queensland
BEGIN:VEVENT
DTSTART;TZID=Australia/Brisbane:20170915T100000
DTEND;TZID=Australia/Brisbane:20170915T140000
DTSTAMP:20190228T081736
CREATED:20170807T051737Z
LAST-MODIFIED:20170813T232755Z
UID:1349-1505469600-1505484000@workabilityqld.org.au
SUMMARY:Careers in Disability Expo Toowoomba
DESCRIPTION:Date: Friday 15 September 2017\nTime: 10.00am – 2.00pm\nLocation: Clive Berghofer Pavilion\, Toowoomba Showgrounds\nEntry: FREE\nThe Careers in Disability Expo will showcase current and future jobs to support people with a disability in your community. \nThe roll out of the National Disability Insurance Scheme is expected to create up to 1\,672 new jobs across the South West Queensland region over the next few years. \nCome and find out about the diverse range of jobs available\, meet employers and get practical advice about pathways and training. \nThe expo will offer:\n• Career advice and pathway planning\n• Free seminars\n• Employers looking to hire \nFind a rewarding career and connect with employers looking for people like you now! \nAre you an employer?\nIf you are interested in participating in the Expo please complete the EOI Form and return via email to tracy.mcdonald@nds.org.au \n CAREERS IN DISABILITY EXPO TOOWOOMBA EOI FORM\n  \nFor more information contact: \nTracy Mcdonald\nLocal WorkAbility Qld Coordinator South West Queensland\nPhone: 0484 595 614\nEmail: tracy.mcdonald@nds.org.au \nThe Careers in Disability Expo is being held in partnership with the Toowoomba Fresh Futures Market. \n \n
URL:http://workabilityqld.org.au/event/swq-expo/
CATEGORIES:South West Queensland
ATTACH;FMTTYPE=image/jpeg:http://workabilityqld.org.au/wp-content/uploads/2017/08/Careers-in-Disability-Expo-SWQ-e1502082378764.jpg
END:VEVENT
END:VCALENDAR